BEGIN:VCALENDAR
VERSION:2.0
PRODID:icalendar-ruby
CALSCALE:GREGORIAN
METHOD:PUBLISH
BEGIN:VEVENT
DTSTAMP:20260421T223555Z
UID:23-1499288@stbethlehem.tithelysetup5.com
DTSTART:20261007T230000Z
DTEND:20261008T000000Z
CLASS:PUBLIC
CREATED:20260421T150911
DESCRIPTION:
LAST-MODIFIED:20260421T150911
LOCATION:2201 Old Russellville Pike | Heritage Hall
SUMMARY:Bible Study
URL;VALUE=URI:https://www.stbumc.com/events/bible-study--23/2026-10-07
END:VEVENT
END:VCALENDAR
