BEGIN:VCALENDAR
VERSION:2.0
PRODID:icalendar-ruby
CALSCALE:GREGORIAN
METHOD:PUBLISH
BEGIN:VEVENT
DTSTAMP:20260422T020238Z
UID:23-1500437@stbethlehem.tithelysetup5.com
DTSTART:20261021T230000Z
DTEND:20261022T000000Z
CLASS:PUBLIC
CREATED:20260421T202609
DESCRIPTION:
LAST-MODIFIED:20260421T202609
LOCATION:2201 Old Russellville Pike | Heritage Hall
SUMMARY:Bible Study
URL;VALUE=URI:https://www.stbumc.com/events/bible-study--23/2026-10-21
END:VEVENT
END:VCALENDAR
