BEGIN:VCALENDAR
VERSION:2.0
PRODID:icalendar-ruby
CALSCALE:GREGORIAN
METHOD:PUBLISH
BEGIN:VEVENT
DTSTAMP:20260420T231743Z
UID:24-1496477@stbethlehem.tithelysetup5.com
DTSTART:20260923T150000Z
DTEND:20260923T160000Z
CLASS:PUBLIC
CREATED:20260420T173604
DESCRIPTION:
LAST-MODIFIED:20260420T173604
LOCATION:
SUMMARY:FUEL
URL;VALUE=URI:https://www.stbumc.com/events/fuel/2026-09-23
END:VEVENT
END:VCALENDAR
