BEGIN:VCALENDAR
VERSION:2.0
PRODID:icalendar-ruby
CALSCALE:GREGORIAN
METHOD:PUBLISH
BEGIN:VEVENT
DTSTAMP:20260421T024329Z
UID:24-1497052@stbethlehem.tithelysetup5.com
DTSTART:20261007T150000Z
DTEND:20261007T160000Z
CLASS:PUBLIC
CREATED:20260420T201036
DESCRIPTION:
LAST-MODIFIED:20260420T201036
LOCATION:
SUMMARY:FUEL
URL;VALUE=URI:https://www.stbumc.com/events/fuel/2026-10-07
END:VEVENT
END:VCALENDAR
