BEGIN:VCALENDAR
VERSION:2.0
PRODID:icalendar-ruby
CALSCALE:GREGORIAN
METHOD:PUBLISH
BEGIN:VEVENT
DTSTAMP:20260420T095203Z
UID:20-1493437@stbethlehem.tithelysetup5.com
DTSTART:20261002T233000Z
DTEND:20261003T003000Z
CLASS:PUBLIC
CREATED:20260420T023746
DESCRIPTION:
LAST-MODIFIED:20260420T023746
LOCATION:2201 Old Russellville Pike | Latecomers Class
SUMMARY:Sea Scouts
URL;VALUE=URI:https://www.stbumc.com/events/sea-scouts/2026-10-02
END:VEVENT
END:VCALENDAR
