BEGIN:VCALENDAR
VERSION:2.0
PRODID:icalendar-ruby
CALSCALE:GREGORIAN
METHOD:PUBLISH
BEGIN:VEVENT
DTSTAMP:20260420T113845Z
UID:20-1493438@stbethlehem.tithelysetup5.com
DTSTART:20261009T233000Z
DTEND:20261010T003000Z
CLASS:PUBLIC
CREATED:20260420T023746
DESCRIPTION:
LAST-MODIFIED:20260420T023746
LOCATION:2201 Old Russellville Pike | Latecomers Class
SUMMARY:Sea Scouts
URL;VALUE=URI:https://www.stbumc.com/events/sea-scouts/2026-10-09
END:VEVENT
END:VCALENDAR
