BEGIN:VCALENDAR
VERSION:2.0
PRODID:icalendar-ruby
CALSCALE:GREGORIAN
METHOD:PUBLISH
BEGIN:VEVENT
DTSTAMP:20260420T125020Z
UID:20-1494012@stbethlehem.tithelysetup5.com
DTSTART:20261016T233000Z
DTEND:20261017T003000Z
CLASS:PUBLIC
CREATED:20260420T071635
DESCRIPTION:
LAST-MODIFIED:20260420T071635
LOCATION:2201 Old Russellville Pike | Latecomers Class
SUMMARY:Sea Scouts
URL;VALUE=URI:https://www.stbumc.com/events/sea-scouts/2026-10-16
END:VEVENT
END:VCALENDAR
