BEGIN:VCALENDAR
VERSION:2.0
PRODID:icalendar-ruby
CALSCALE:GREGORIAN
METHOD:PUBLISH
BEGIN:VEVENT
DTSTAMP:20260420T160124Z
UID:20-1494587@stbethlehem.tithelysetup5.com
DTSTART:20261030T233000Z
DTEND:20261031T003000Z
CLASS:PUBLIC
CREATED:20260420T095103
DESCRIPTION:
LAST-MODIFIED:20260420T095103
LOCATION:2201 Old Russellville Pike | Latecomers Class
SUMMARY:Sea Scouts
URL;VALUE=URI:https://www.stbumc.com/events/sea-scouts/2026-10-30
END:VEVENT
END:VCALENDAR
