BEGIN:VCALENDAR
VERSION:2.0
PRODID:icalendar-ruby
CALSCALE:GREGORIAN
METHOD:PUBLISH
BEGIN:VEVENT
DTSTAMP:20260420T211507Z
UID:8-1495464@stbethlehem.tithelysetup5.com
DTSTART:20260927T150000Z
DTEND:20260927T160000Z
CLASS:PUBLIC
CREATED:20260420T150026
DESCRIPTION:
LAST-MODIFIED:20260420T150026
LOCATION:
SUMMARY:Worship
URL;VALUE=URI:https://www.stbumc.com/events/worship--8/2026-09-27
ATTACH;FILENAME=IMG_0060.png;FMTTYPE=image/png:https://dq5pwpg1q8ru0.cloudf
 ront.net/2025/07/29/13/23/11/46590d29-01ba-4fb8-a63a-783e8d7f54a4/IMG_0060
 .png
END:VEVENT
END:VCALENDAR
